BEGIN:VCALENDAR
VERSION:2.0
PRODID:-//WQNA 95.7 FM - ECPv6.15.20//NONSGML v1.0//EN
CALSCALE:GREGORIAN
METHOD:PUBLISH
X-WR-CALNAME:WQNA 95.7 FM
X-ORIGINAL-URL:https://wqnaradio.net
X-WR-CALDESC:Events for WQNA 95.7 FM
REFRESH-INTERVAL;VALUE=DURATION:PT1H
X-Robots-Tag:noindex
X-PUBLISHED-TTL:PT1H
BEGIN:VTIMEZONE
TZID:America/Los_Angeles
BEGIN:DAYLIGHT
TZOFFSETFROM:-0800
TZOFFSETTO:-0700
TZNAME:PDT
DTSTART:20210314T100000
END:DAYLIGHT
BEGIN:STANDARD
TZOFFSETFROM:-0700
TZOFFSETTO:-0800
TZNAME:PST
DTSTART:20211107T090000
END:STANDARD
BEGIN:DAYLIGHT
TZOFFSETFROM:-0800
TZOFFSETTO:-0700
TZNAME:PDT
DTSTART:20220313T100000
END:DAYLIGHT
BEGIN:STANDARD
TZOFFSETFROM:-0700
TZOFFSETTO:-0800
TZNAME:PST
DTSTART:20221106T090000
END:STANDARD
BEGIN:DAYLIGHT
TZOFFSETFROM:-0800
TZOFFSETTO:-0700
TZNAME:PDT
DTSTART:20230312T100000
END:DAYLIGHT
BEGIN:STANDARD
TZOFFSETFROM:-0700
TZOFFSETTO:-0800
TZNAME:PST
DTSTART:20231105T090000
END:STANDARD
END:VTIMEZONE
BEGIN:VEVENT
DTSTART;TZID=America/Los_Angeles:20220707T133000
DTEND;TZID=America/Los_Angeles:20220707T153000
DTSTAMP:20260424T193745
CREATED:20260120T174509Z
LAST-MODIFIED:20260120T174509Z
UID:777-1657200600-1657207800@wqnaradio.net
SUMMARY:Cupcake Decorating
DESCRIPTION:Oh God\, my uncle. How am I ever gonna explain this? The plans you refer to will soon be back in our hands. I suggest you try it again\, Luke. This time\, let go your conscious self and act on instinct. I want to come with you to Alderaan. There’s nothing for me here now. I want to learn the ways of the Force and be a Jedi\, like my father before me. As you wish. I don’t know what you’re talking about. I am a member of the Imperial Senate on a diplomatic mission to Alderaan–
URL:https://wqnaradio.net/event/cupcake-decorating/
LOCATION:The Corn Palace\, 601 N Main St\, Mitchell\, 57301\, United States
CATEGORIES:Family Fun
END:VEVENT
BEGIN:VEVENT
DTSTART;TZID=America/Los_Angeles:20220722T170000
DTEND;TZID=America/Los_Angeles:20220723T180000
DTSTAMP:20260424T193745
CREATED:20260120T174504Z
LAST-MODIFIED:20260120T174504Z
UID:776-1658509200-1658599200@wqnaradio.net
SUMMARY:Weekend Long Adventure
DESCRIPTION:Dear Mr. President\, There are too many states nowadays. Please\, eliminate three. P.S. I am not a crackpot. You don’t win friends with salad. I’m a Spalding Gray in a Rick Dees world. D’oh. A lifetime of working with nuclear power has left me with a healthy green glow…and left me as impotent as a Nevada boxing commissioner. No children have ever meddled with the Republican Party and lived to tell about it.
URL:https://wqnaradio.net/event/weekend-long-adventure/
CATEGORIES:Family Fun
END:VEVENT
END:VCALENDAR